BEGIN:VCALENDAR
VERSION:2.0
PRODID:-//pretix//Jugend_hackt_Anmeldung//
BEGIN:VTIMEZONE
TZID:Europe/Berlin
BEGIN:STANDARD
DTSTART:20001029T040000
RRULE:FREQ=YEARLY;BYDAY=-1SU;BYMONTH=10
TZNAME:CET
TZOFFSETFROM:+0200
TZOFFSETTO:+0100
END:STANDARD
BEGIN:DAYLIGHT
DTSTART:20000326T030000
RRULE:FREQ=YEARLY;BYDAY=-1SU;BYMONTH=3
TZNAME:CEST
TZOFFSETFROM:+0100
TZOFFSETTO:+0200
END:DAYLIGHT
END:VTIMEZONE
BEGIN:VEVENT
UID:pretix-berlin-hackday-2025-0@anmeldung.alpaka.space
DTSTART;TZID=Europe/Berlin:20251030T140000
DTEND;TZID=Europe/Berlin:20251030T180000
DESCRIPTION:Tickets: https://anmeldung.alpaka.space/berlin/hackday-2025/\nV
 eranstalter: Event Berlin
DTSTAMP:20260421T123429Z
LOCATION:Theater an der Parkaue\, Parkaue 29\, 10367 Berlin
SUMMARY:Workshop-Tag : Berlin Hackday 2025
END:VEVENT
END:VCALENDAR
