BEGIN:VCALENDAR
VERSION:2.0
PRODID:-//pretix//Jugend_hackt_Anmeldung//
BEGIN:VTIMEZONE
TZID:Europe/Berlin
BEGIN:STANDARD
DTSTART:20001029T040000
RRULE:FREQ=YEARLY;BYDAY=-1SU;BYMONTH=10
TZNAME:CET
TZOFFSETFROM:+0200
TZOFFSETTO:+0100
END:STANDARD
BEGIN:DAYLIGHT
DTSTART:20000326T030000
RRULE:FREQ=YEARLY;BYDAY=-1SU;BYMONTH=3
TZNAME:CEST
TZOFFSETFROM:+0100
TZOFFSETTO:+0200
END:DAYLIGHT
END:VTIMEZONE
BEGIN:VEVENT
UID:pretix-lab-berlin-anmeldung-27@anmeldung.alpaka.space
DTSTART;TZID=Europe/Berlin:20251206T130000
DTEND;TZID=Europe/Berlin:20251206T160000
DESCRIPTION:Tickets: https://anmeldung.alpaka.space/lab-berlin/anmeldung/27
 /\nVeranstalter: Lab Berlin
DTSTAMP:20260423T001019Z
LOCATION:Open Knowledge Foundation\, 3. OG\, Singerstr. 109\, 10179 Berlin
SUMMARY:Long Term Support – Kick-off
END:VEVENT
END:VCALENDAR
