BEGIN:VCALENDAR
VERSION:2.0
PRODID:-//pretix//Jugend_hackt_Anmeldung//
BEGIN:VEVENT
UID:pretix-lab-hamburg-lab26-4-0@anmeldung.alpaka.space
DTSTART;VALUE=DATE:20260425
DTEND;VALUE=DATE:20260426
DESCRIPTION:Tickets: https://anmeldung.alpaka.space/lab-hamburg/lab26-4/\nV
 eranstalter: Lab Hamburg
DTSTAMP:20260421T103147Z
LOCATION:CCC Hansestadt Hamburg e.V.\, Zeiseweg 9\, Viktoria-Kaserne 1. OG\
 , Raum 2\, 22765 Hamburg
SUMMARY:Pixelige Games: Mit wenigen Pixeln kleine Spiele erschaffen
END:VEVENT
END:VCALENDAR
