BEGIN:VCALENDAR
VERSION:2.0
PRODID:-//pretix//Jugend_hackt_Anmeldung//
BEGIN:VTIMEZONE
TZID:Europe/Berlin
BEGIN:STANDARD
DTSTART:20001029T040000
RRULE:FREQ=YEARLY;BYDAY=-1SU;BYMONTH=10
TZNAME:CET
TZOFFSETFROM:+0200
TZOFFSETTO:+0100
END:STANDARD
BEGIN:DAYLIGHT
DTSTART:20000326T030000
RRULE:FREQ=YEARLY;BYDAY=-1SU;BYMONTH=3
TZNAME:CEST
TZOFFSETFROM:+0100
TZOFFSETTO:+0200
END:DAYLIGHT
END:VTIMEZONE
BEGIN:VEVENT
UID:pretix-lab-mannheim-openlab02-66@anmeldung.alpaka.space
DTSTART;TZID=Europe/Berlin:20260729T173000
DTEND;TZID=Europe/Berlin:20260729T200000
DESCRIPTION:Tickets: https://anmeldung.alpaka.space/lab-mannheim/openlab02/
 66/\nVeranstalter: Lab Mannheim
DTSTAMP:20260424T232802Z
LOCATION:Jugendkulturzentrum forum\, Neckarpromenade 46\, 68167 Mannheim
SUMMARY:Open Lab Mannheim
END:VEVENT
END:VCALENDAR
