BEGIN:VCALENDAR
VERSION:2.0
PRODID:-//pretix//Jugend_hackt_Anmeldung//
BEGIN:VEVENT
UID:pretix-lab-offenbach-70lab-0@anmeldung.alpaka.space
DTSTART:20260228T140000Z
DTEND:20260228T170000Z
DESCRIPTION:Tickets: https://anmeldung.alpaka.space/lab-offenbach/70lab/\nV
 eranstalter: Lab Offenbach
DTSTAMP:20260421T082046Z
LOCATION:Stadtbibliothek Offenbach a.M.\, Herrnstraße 84\, 63065 Offenbach
  a.M.
SUMMARY:#70 Lab: Open Lab
END:VEVENT
END:VCALENDAR
